BEGIN:VCALENDAR
VERSION:2.0
PRODID:-//梶山町会公式ホームページ - ECPv6.15.20//NONSGML v1.0//EN
CALSCALE:GREGORIAN
METHOD:PUBLISH
X-WR-CALNAME:梶山町会公式ホームページ
X-ORIGINAL-URL:https://kajiyamachokai.com
X-WR-CALDESC:梶山町会公式ホームページ のイベント
REFRESH-INTERVAL;VALUE=DURATION:PT1H
X-Robots-Tag:noindex
X-PUBLISHED-TTL:PT1H
BEGIN:VTIMEZONE
TZID:Asia/Tokyo
BEGIN:STANDARD
TZOFFSETFROM:+0900
TZOFFSETTO:+0900
TZNAME:JST
DTSTART:20250101T000000
END:STANDARD
END:VTIMEZONE
BEGIN:VEVENT
DTSTART;TZID=Asia/Tokyo:20260214T090000
DTEND;TZID=Asia/Tokyo:20260214T090000
DTSTAMP:20260421T054543
CREATED:20260124T044818Z
LAST-MODIFIED:20260124T045047Z
UID:4962-1771059600-1771059600@kajiyamachokai.com
SUMMARY:餅つき大会
DESCRIPTION:地域の皆さまに支えられ、昨年大盛況となった梶山町会の餅つき大会を今年も梶山のお不動様境内で開催します。\nつきたてのお餅を味わいながら、餅つき体験にもぜひチャレンジしてみましょう。\n地域の交流を深めるひとときを一緒に楽しんでいただければ幸いです。\nご家族連れの方も大歓迎です。皆さまのお越しを心よりお待ちしています。
URL:https://kajiyamachokai.com/event/%e9%a4%85%e3%81%a4%e3%81%8d%e5%a4%a7%e4%bc%9a/
LOCATION:成田山不動大教会\, 一丁目９番１１号\, 板橋区赤塚\, 東京都\, 175-0092\, Japan
ATTACH;FMTTYPE=image/jpeg:https://kajiyamachokai.com/wp-content/uploads/2026/01/IMG_1965.jpg
END:VEVENT
END:VCALENDAR