BEGIN:VCALENDAR
VERSION:2.0
PRODID:-//梶山町会公式ホームページ - ECPv6.15.20//NONSGML v1.0//EN
CALSCALE:GREGORIAN
METHOD:PUBLISH
X-WR-CALNAME:梶山町会公式ホームページ
X-ORIGINAL-URL:https://kajiyamachokai.com
X-WR-CALDESC:梶山町会公式ホームページ のイベント
REFRESH-INTERVAL;VALUE=DURATION:PT1H
X-Robots-Tag:noindex
X-PUBLISHED-TTL:PT1H
BEGIN:VTIMEZONE
TZID:Asia/Tokyo
BEGIN:STANDARD
TZOFFSETFROM:+0900
TZOFFSETTO:+0900
TZNAME:JST
DTSTART:20240101T000000
END:STANDARD
END:VTIMEZONE
BEGIN:VEVENT
DTSTART;TZID=Asia/Tokyo:20250927T133000
DTEND;TZID=Asia/Tokyo:20250927T153000
DTSTAMP:20260422T061707
CREATED:20250830T065048Z
LAST-MODIFIED:20250830T070912Z
UID:4202-1758979800-1758987000@kajiyamachokai.com
SUMMARY:認知症ｾﾐﾅｰ
DESCRIPTION:
URL:https://kajiyamachokai.com/event/%e8%aa%8d%e7%9f%a5%e7%97%87%ef%bd%be%ef%be%90%ef%be%85%ef%bd%b0/
LOCATION:下赤塚駅前集会所\, 1丁目7番2号\, 板橋区赤塚\, 東京都\, 1750092\, Japan
ATTACH;FMTTYPE=image/jpeg:https://kajiyamachokai.com/wp-content/uploads/2025/08/DSC_2210-1536x1152-1.jpg
END:VEVENT
END:VCALENDAR