BEGIN:VCALENDAR
VERSION:2.0
PRODID:-//梶山町会公式ホームページ - ECPv6.15.20//NONSGML v1.0//EN
CALSCALE:GREGORIAN
METHOD:PUBLISH
X-ORIGINAL-URL:https://kajiyamachokai.com
X-WR-CALDESC:梶山町会公式ホームページ のイベント
REFRESH-INTERVAL;VALUE=DURATION:PT1H
X-Robots-Tag:noindex
X-PUBLISHED-TTL:PT1H
BEGIN:VTIMEZONE
TZID:Asia/Tokyo
BEGIN:STANDARD
TZOFFSETFROM:+0900
TZOFFSETTO:+0900
TZNAME:JST
DTSTART:20240101T000000
END:STANDARD
END:VTIMEZONE
BEGIN:VEVENT
DTSTART;TZID=Asia/Tokyo:20250723T070000
DTEND;TZID=Asia/Tokyo:20250727T073000
DTSTAMP:20260422T093450
CREATED:20250629T082312Z
LAST-MODIFIED:20250629T082352Z
UID:3812-1753254000-1753601400@kajiyamachokai.com
SUMMARY:🌞 夏休み恒例！朝のラジオ体操のお知らせ 🌞
DESCRIPTION:今年もやってきました、夏の朝の定番行事「ラジオ体操」！\n7月23日（水）から27日（日）までの5日間、毎朝7時より中田出世稲荷神社の境内にて開催します。 \n毎日参加された方には参加賞をご用意しています。体を動かして一日を元気にスタートしませんか？
URL:https://kajiyamachokai.com/event/%f0%9f%8c%9e-%e5%a4%8f%e4%bc%91%e3%81%bf%e6%81%92%e4%be%8b%ef%bc%81%e6%9c%9d%e3%81%ae%e3%83%a9%e3%82%b8%e3%82%aa%e4%bd%93%e6%93%8d%e3%81%ae%e3%81%8a%e7%9f%a5%e3%82%89%e3%81%9b-%f0%9f%8c%9e/
LOCATION:中田出世稲荷境内\, 1丁目7番9号\, 板橋区赤塚\, 東京都\, 175-0092\, Japan
ATTACH;FMTTYPE=image/jpeg:https://kajiyamachokai.com/wp-content/uploads/2025/06/DSC01047-scaled.jpg
END:VEVENT
END:VCALENDAR