BEGIN:VCALENDAR
VERSION:2.0
PRODID:-//梶山町会公式ホームページ - ECPv6.15.20//NONSGML v1.0//EN
CALSCALE:GREGORIAN
METHOD:PUBLISH
X-ORIGINAL-URL:https://kajiyamachokai.com
X-WR-CALDESC:梶山町会公式ホームページ のイベント
REFRESH-INTERVAL;VALUE=DURATION:PT1H
X-Robots-Tag:noindex
X-PUBLISHED-TTL:PT1H
BEGIN:VTIMEZONE
TZID:Asia/Tokyo
BEGIN:STANDARD
TZOFFSETFROM:+0900
TZOFFSETTO:+0900
TZNAME:JST
DTSTART:20240101T000000
END:STANDARD
END:VTIMEZONE
BEGIN:VEVENT
DTSTART;TZID=Asia/Tokyo:20250719T180000
DTEND;TZID=Asia/Tokyo:20250720T210000
DTSTAMP:20260422T093450
CREATED:20250608T115236Z
LAST-MODIFIED:20250608T115326Z
UID:3742-1752948000-1753045200@kajiyamachokai.com
SUMMARY:梶山町会盆踊り
DESCRIPTION:納涼盆踊り大会\n7月19日(土)・20日(日)　PM6:00より \n中田出世稲荷境内 \n夏の風物詩、梶山町会の盆踊り大会が今年もやってきます！ \n今年の盆踊りは、いつにも増してスペシャルな企画が盛りだくさん！\n「令和7年度東京都地域の底力発展事業助成」（※）の力を借りて（申請中）、地域の皆さまと一緒に楽しめる、新しい形の盆踊りを目指します。 \n 
URL:https://kajiyamachokai.com/event/%e6%a2%b6%e5%b1%b1%e7%94%ba%e4%bc%9a%e7%9b%86%e8%b8%8a%e3%82%8a/
LOCATION:中田出世稲荷境内\, 1丁目7番9号\, 板橋区赤塚\, 東京都\, 175-0092\, Japan
ATTACH;FMTTYPE=image/jpeg:https://kajiyamachokai.com/wp-content/uploads/2025/06/DSC02120-1.jpg
END:VEVENT
END:VCALENDAR