BEGIN:VCALENDAR
VERSION:2.0
PRODID:-//梶山町会公式ホームページ - ECPv6.15.20//NONSGML v1.0//EN
CALSCALE:GREGORIAN
METHOD:PUBLISH
X-WR-CALNAME:梶山町会公式ホームページ
X-ORIGINAL-URL:https://kajiyamachokai.com
X-WR-CALDESC:梶山町会公式ホームページ のイベント
REFRESH-INTERVAL;VALUE=DURATION:PT1H
X-Robots-Tag:noindex
X-PUBLISHED-TTL:PT1H
BEGIN:VTIMEZONE
TZID:Asia/Tokyo
BEGIN:STANDARD
TZOFFSETFROM:+0900
TZOFFSETTO:+0900
TZNAME:JST
DTSTART:20240101T000000
END:STANDARD
END:VTIMEZONE
BEGIN:VEVENT
DTSTART;TZID=Asia/Tokyo:20250222T090000
DTEND;TZID=Asia/Tokyo:20250222T140000
DTSTAMP:20260422T175837
CREATED:20241106T060336Z
LAST-MODIFIED:20250202T013650Z
UID:2257-1740214800-1740232800@kajiyamachokai.com
SUMMARY:梶山町会餅つき大会
DESCRIPTION:２０２５年２月２２日　成田山不動大教会境内　9時より餅つき準備　11時より餅つき開始。
URL:https://kajiyamachokai.com/event/%e6%a2%b6%e5%b1%b1%e7%94%ba%e4%bc%9a%e9%a4%85%e3%81%a4%e3%81%8d%e5%a4%a7%e4%bc%9a/
LOCATION:成田山不動大教会\, 一丁目９番１１号\, 板橋区赤塚\, 東京都\, 175-0092\, Japan
ATTACH;FMTTYPE=image/gif:https://kajiyamachokai.com/wp-content/uploads/2024/11/illust4101thumb3.gif
END:VEVENT
END:VCALENDAR