BEGIN:VCALENDAR
VERSION:2.0
PRODID:-//梶山町会公式ホームページ - ECPv6.15.20//NONSGML v1.0//EN
CALSCALE:GREGORIAN
METHOD:PUBLISH
X-ORIGINAL-URL:https://kajiyamachokai.com
X-WR-CALDESC:梶山町会公式ホームページ のイベント
REFRESH-INTERVAL;VALUE=DURATION:PT1H
X-Robots-Tag:noindex
X-PUBLISHED-TTL:PT1H
BEGIN:VTIMEZONE
TZID:Asia/Tokyo
BEGIN:STANDARD
TZOFFSETFROM:+0900
TZOFFSETTO:+0900
TZNAME:JST
DTSTART:20240101T000000
END:STANDARD
END:VTIMEZONE
BEGIN:VEVENT
DTSTART;TZID=Asia/Tokyo:20250208T130000
DTEND;TZID=Asia/Tokyo:20250208T170000
DTSTAMP:20260422T182027
CREATED:20240903T100611Z
LAST-MODIFIED:20241029T021026Z
UID:1258-1739019600-1739034000@kajiyamachokai.com
SUMMARY:板橋プロレス  (梶山町会主催・チーム赤塚共催）
DESCRIPTION:板橋プロレス　下赤塚小学校体育館で梶山町会とチーム赤塚のコラボ開催 \n開催日　２０２５年２月8日
URL:https://kajiyamachokai.com/event/%e6%9d%bf%e6%a9%8b%e3%83%97%e3%83%ad%e3%83%ac%e3%82%b9/
LOCATION:下赤塚小学校
ATTACH;FMTTYPE=image/jpeg:https://kajiyamachokai.com/wp-content/uploads/2024/09/4514443f98f94f136f47c903fd4e9fa3.jpg
END:VEVENT
END:VCALENDAR