BEGIN:VCALENDAR
VERSION:2.0
PRODID:-//梶山町会公式ホームページ - ECPv6.15.20//NONSGML v1.0//EN
CALSCALE:GREGORIAN
METHOD:PUBLISH
X-ORIGINAL-URL:https://kajiyamachokai.com
X-WR-CALDESC:梶山町会公式ホームページ のイベント
REFRESH-INTERVAL;VALUE=DURATION:PT1H
X-Robots-Tag:noindex
X-PUBLISHED-TTL:PT1H
BEGIN:VTIMEZONE
TZID:Asia/Tokyo
BEGIN:STANDARD
TZOFFSETFROM:+0900
TZOFFSETTO:+0900
TZNAME:JST
DTSTART:20230101T000000
END:STANDARD
END:VTIMEZONE
BEGIN:VEVENT
DTSTART;TZID=Asia/Tokyo:20241027T100000
DTEND;TZID=Asia/Tokyo:20241027T120000
DTSTAMP:20260423T003635
CREATED:20240902T070037Z
LAST-MODIFIED:20240902T122157Z
UID:1181-1730023200-1730030400@kajiyamachokai.com
SUMMARY:梶山町会防災訓練
DESCRIPTION:10月27日(日)　１０時より１２時まで　中田出世稲荷境内 \n起震車体験・煙体験・スタンドパイプ・消火器体験・消防署による防火指導他 \n最近は自然災害など突然大きな災害が発生しています、万が一の時、日ごろの訓練が役に立ちます。\n自分の身を守るため、地域を守るため、多くの町会員の参加お待ちしています
URL:https://kajiyamachokai.com/event/%e6%a2%b6%e5%b1%b1%e7%94%ba%e4%bc%9a%e9%98%b2%e7%81%bd%e8%a8%93%e7%b7%b4/
LOCATION:中田出世稲荷境内\, 1丁目7番9号\, 板橋区赤塚\, 東京都\, 175-0092\, Japan
ATTACH;FMTTYPE=image/jpeg:https://kajiyamachokai.com/wp-content/uploads/2024/09/DSC01627.jpg
END:VEVENT
END:VCALENDAR