BEGIN:VCALENDAR
VERSION:2.0
PRODID:-//梶山町会公式ホームページ - ECPv6.15.20//NONSGML v1.0//EN
CALSCALE:GREGORIAN
METHOD:PUBLISH
X-WR-CALNAME:梶山町会公式ホームページ
X-ORIGINAL-URL:https://kajiyamachokai.com
X-WR-CALDESC:梶山町会公式ホームページ のイベント
REFRESH-INTERVAL;VALUE=DURATION:PT1H
X-Robots-Tag:noindex
X-PUBLISHED-TTL:PT1H
BEGIN:VTIMEZONE
TZID:Asia/Tokyo
BEGIN:STANDARD
TZOFFSETFROM:+0900
TZOFFSETTO:+0900
TZNAME:JST
DTSTART:20230101T000000
END:STANDARD
END:VTIMEZONE
BEGIN:VEVENT
DTSTART;TZID=Asia/Tokyo:20241019T110000
DTEND;TZID=Asia/Tokyo:20241020T170000
DTSTAMP:20260423T005853
CREATED:20240902T083628Z
LAST-MODIFIED:20240902T123950Z
UID:1197-1729335600-1729443600@kajiyamachokai.com
SUMMARY:板橋区民祭り
DESCRIPTION:
URL:https://kajiyamachokai.com/event/%e6%9d%bf%e6%a9%8b%e5%8c%ba%e6%b0%91%e7%a5%ad%e3%82%8a/
LOCATION:大山グリーンホール前\, 36-1\, 板橋区栄町\, 東京都\, 173-0015\, Japan
ATTACH;FMTTYPE=image/jpeg:https://kajiyamachokai.com/wp-content/uploads/2024/09/R.jpg
END:VEVENT
END:VCALENDAR