BEGIN:VCALENDAR
VERSION:2.0
PRODID:-//梶山町会公式ホームページ - ECPv6.15.20//NONSGML v1.0//EN
CALSCALE:GREGORIAN
METHOD:PUBLISH
X-WR-CALNAME:梶山町会公式ホームページ
X-ORIGINAL-URL:https://kajiyamachokai.com
X-WR-CALDESC:梶山町会公式ホームページ のイベント
REFRESH-INTERVAL;VALUE=DURATION:PT1H
X-Robots-Tag:noindex
X-PUBLISHED-TTL:PT1H
BEGIN:VTIMEZONE
TZID:Asia/Tokyo
BEGIN:STANDARD
TZOFFSETFROM:+0900
TZOFFSETTO:+0900
TZNAME:JST
DTSTART:20250101T000000
END:STANDARD
END:VTIMEZONE
BEGIN:VEVENT
DTSTART;TZID=Asia/Tokyo:20260214T090000
DTEND;TZID=Asia/Tokyo:20260214T090000
DTSTAMP:20260421T195737
CREATED:20260124T044818Z
LAST-MODIFIED:20260124T045047Z
UID:4962-1771059600-1771059600@kajiyamachokai.com
SUMMARY:餅つき大会
DESCRIPTION:地域の皆さまに支えられ、昨年大盛況となった梶山町会の餅つき大会を今年も梶山のお不動様境内で開催します。\nつきたてのお餅を味わいながら、餅つき体験にもぜひチャレンジしてみましょう。\n地域の交流を深めるひとときを一緒に楽しんでいただければ幸いです。\nご家族連れの方も大歓迎です。皆さまのお越しを心よりお待ちしています。
URL:https://kajiyamachokai.com/event/%e9%a4%85%e3%81%a4%e3%81%8d%e5%a4%a7%e4%bc%9a/
LOCATION:成田山不動大教会\, 一丁目９番１１号\, 板橋区赤塚\, 東京都\, 175-0092\, Japan
ATTACH;FMTTYPE=image/jpeg:https://kajiyamachokai.com/wp-content/uploads/2026/01/IMG_1965.jpg
END:VEVENT
BEGIN:VEVENT
DTSTART;TZID=Asia/Tokyo:20260217T183000
DTEND;TZID=Asia/Tokyo:20260217T200000
DTSTAMP:20260421T195737
CREATED:20260124T051442Z
LAST-MODIFIED:20260124T051442Z
UID:4972-1771353000-1771358400@kajiyamachokai.com
SUMMARY:定例全役員会
DESCRIPTION:2026年初の定例役員会を2月17日PM6:00より下赤塚駅前集会所2階和室にて開催
URL:https://kajiyamachokai.com/event/%e5%ae%9a%e4%be%8b%e5%85%a8%e5%bd%b9%e5%93%a1%e4%bc%9a/
LOCATION:下赤塚駅前集会所\, 1丁目7番2号\, 板橋区赤塚\, 東京都\, 1750092\, Japan
ATTACH;FMTTYPE=image/jpeg:https://kajiyamachokai.com/wp-content/uploads/2025/10/DSC05116-scaled.jpg
END:VEVENT
BEGIN:VEVENT
DTSTART;TZID=Asia/Tokyo:20260228T093000
DTEND;TZID=Asia/Tokyo:20260228T093000
DTSTAMP:20260421T195737
CREATED:20260215T125311Z
LAST-MODIFIED:20260215T130635Z
UID:5122-1772271000-1772271000@kajiyamachokai.com
SUMMARY:第40回赤塚梅まつり　２月２８日（土）
DESCRIPTION:第４０回赤塚梅まつり　 \n日時　2026年2月28日（土曜日）9時30分～15時00分 \n会場　赤塚溜池公園・赤塚城址（東京都板橋区赤塚5丁目35番地） \n内容\n舞台（赤塚溜池公園）【雨天中止】\n9時30分～10時10分　綾の音合奏団（筝の演奏）\n10時10分～10時30分　福祉の森サロン玉すだれ会（南京玉すだれ）\n10時30分～11時30分　マカラプア（バンド演奏）\n10時30分～11時30分　ハーラウ　カレイピリイケアロハ（フラダンス）\n10時30分～11時30分　カレイホク（ウクレレ演奏）\n11時30分～12時00分　赤塚諏訪神社獅子舞保存会（獅子舞）\n12時00分～12時30分　成増天神太鼓（太鼓演奏）\n12時30分～13時00分　赤塚第三中学校（吹奏楽演奏）\n13時00分～13時30分　式典\n13時30分～13時50分　紅梅小大江戸ダンス連クリームソーダ（大江戸ダンス）\n13時50分～14時20分　音ごはん（子育て応援主婦バンド演奏）\n14時20分～14時50分　TFA長拳隊（中国武術演舞） \n売店コーナー（赤塚溜池公園）【雨天一部実施】\n下赤塚支部（チーム赤塚）、成増支部、徳丸支部（徳丸親和会）、徳丸支部（徳丸協栄会）、交流都市（和歌山県みなべ町）、板橋区米穀商組合、板橋区観光協会、株式会社協栄 \nPRコーナー（赤塚溜池公園）【雨天一部実施】\n高島平警察署・志村消防署、明治安田生命保険 \n甘酒コーナー（無料）（赤塚溜池公園）【雨天実施】 \n野点（赤塚溜池公園）【雨天中止】 \n赤塚城戦国絵巻武者行列（赤塚城址）【雨天中止】\n14時00分～14時30分　鷹匠\n14時35分～14時55分　赤塚城戦国絵巻武者行列\n14時55分～15時15分　西洋流火術鉄砲隊保存会 \n詳しくは板橋区公式サイトをご覧ください \nhttps://www.city.itabashi.tokyo.jp/kusei/profile/event/sakura/1061903.html
URL:https://kajiyamachokai.com/event/%e7%ac%ac40%e5%9b%9e%e8%b5%a4%e5%a1%9a%e6%a2%85%e3%81%be%e3%81%a4%e3%82%8a%e3%80%80%ef%bc%92%e6%9c%88%ef%bc%92%ef%bc%98%e6%97%a5%ef%bc%88%e5%9c%9f%ef%bc%89/
LOCATION:東京都
ATTACH;FMTTYPE=image/jpeg:https://kajiyamachokai.com/wp-content/uploads/2026/02/DSC01540-scaled.jpg
END:VEVENT
END:VCALENDAR