BEGIN:VCALENDAR
VERSION:2.0
PRODID:-//梶山町会公式ホームページ - ECPv6.15.20//NONSGML v1.0//EN
CALSCALE:GREGORIAN
METHOD:PUBLISH
X-WR-CALNAME:梶山町会公式ホームページ
X-ORIGINAL-URL:https://kajiyamachokai.com
X-WR-CALDESC:梶山町会公式ホームページ のイベント
REFRESH-INTERVAL;VALUE=DURATION:PT1H
X-Robots-Tag:noindex
X-PUBLISHED-TTL:PT1H
BEGIN:VTIMEZONE
TZID:Asia/Tokyo
BEGIN:STANDARD
TZOFFSETFROM:+0900
TZOFFSETTO:+0900
TZNAME:JST
DTSTART:20240101T000000
END:STANDARD
END:VTIMEZONE
BEGIN:VEVENT
DTSTART;TZID=Asia/Tokyo:20250617T183000
DTEND;TZID=Asia/Tokyo:20250617T200000
DTSTAMP:20260422T094117
CREATED:20250607T142019Z
LAST-MODIFIED:20250607T142019Z
UID:3711-1750185000-1750190400@kajiyamachokai.com
SUMMARY:6月定例全役員会
DESCRIPTION:6　月定例全\n役員会開催のお知らせ\n日時　　　　6月１７日(火)　PM6：30より \n場所　　　　下赤塚駅前集会所　2階第一会議室 \n議題　　　　各種報告　他
URL:https://kajiyamachokai.com/event/6%e6%9c%88%e5%ae%9a%e4%be%8b%e5%85%a8%e5%bd%b9%e5%93%a1%e4%bc%9a/
LOCATION:下赤塚駅前集会所\, 1丁目7番2号\, 板橋区赤塚\, 東京都\, 1750092\, Japan
ATTACH;FMTTYPE=image/jpeg:https://kajiyamachokai.com/wp-content/uploads/2025/04/DSC04257-scaled.jpg
END:VEVENT
END:VCALENDAR