BEGIN:VCALENDAR
VERSION:2.0
PRODID:-//梶山町会公式ホームページ - ECPv6.15.20//NONSGML v1.0//EN
CALSCALE:GREGORIAN
METHOD:PUBLISH
X-WR-CALNAME:梶山町会公式ホームページ
X-ORIGINAL-URL:https://kajiyamachokai.com
X-WR-CALDESC:梶山町会公式ホームページ のイベント
REFRESH-INTERVAL;VALUE=DURATION:PT1H
X-Robots-Tag:noindex
X-PUBLISHED-TTL:PT1H
BEGIN:VTIMEZONE
TZID:Asia/Tokyo
BEGIN:STANDARD
TZOFFSETFROM:+0900
TZOFFSETTO:+0900
TZNAME:JST
DTSTART:20240101T000000
END:STANDARD
END:VTIMEZONE
BEGIN:VEVENT
DTSTART;TZID=Asia/Tokyo:20250518T100000
DTEND;TZID=Asia/Tokyo:20250518T130000
DTSTAMP:20260422T112617
CREATED:20250509T014734Z
LAST-MODIFIED:20250509T014734Z
UID:3480-1747562400-1747573200@kajiyamachokai.com
SUMMARY:子供まつり
DESCRIPTION:5月18日10時より下赤塚小学校校庭・体育館・一部教室（雨天の場合は体育館）で今年も開催されます・ \n 
URL:https://kajiyamachokai.com/event/%e5%ad%90%e4%be%9b%e3%81%be%e3%81%a4%e3%82%8a/
LOCATION:下赤塚小学校
ATTACH;FMTTYPE=image/jpeg:https://kajiyamachokai.com/wp-content/uploads/2024/08/DSC01858-コピー.jpg
END:VEVENT
END:VCALENDAR