BEGIN:VCALENDAR
VERSION:2.0
PRODID:-//梶山町会公式ホームページ - ECPv6.15.20//NONSGML v1.0//EN
CALSCALE:GREGORIAN
METHOD:PUBLISH
X-WR-CALNAME:梶山町会公式ホームページ
X-ORIGINAL-URL:https://kajiyamachokai.com
X-WR-CALDESC:梶山町会公式ホームページ のイベント
REFRESH-INTERVAL;VALUE=DURATION:PT1H
X-Robots-Tag:noindex
X-PUBLISHED-TTL:PT1H
BEGIN:VTIMEZONE
TZID:Asia/Tokyo
BEGIN:STANDARD
TZOFFSETFROM:+0900
TZOFFSETTO:+0900
TZNAME:JST
DTSTART:20240101T000000
END:STANDARD
END:VTIMEZONE
BEGIN:VEVENT
DTSTART;TZID=Asia/Tokyo:20250301T093000
DTEND;TZID=Asia/Tokyo:20250301T150000
DTSTAMP:20260422T144517
CREATED:20250202T021451Z
LAST-MODIFIED:20250220T065437Z
UID:2786-1740821400-1740841200@kajiyamachokai.com
SUMMARY:赤塚梅まつり　3月1日(土)　午前9時30分から午後3時
DESCRIPTION:令和7年3月1日（土曜日）午前9時30分から午後3時\n赤塚溜池公園・赤塚城址（東京都板橋区赤塚5丁目35番地） \n式典\n赤塚城戦国絵巻武者行列（雨天中止）\n手作りの鎧兜を着た地元の小学生たちが、戦国時代の出陣の様子を再現し、式典会場から赤塚城址まで行進します。\n鉄砲隊の演武（雨天中止）\n鎧着付け体験（雨天中止）\n俳句作品の募集\n「赤塚梅まつり」を主題にした俳句を募集します。\n大江戸ダンス演舞（雨天中止）\n筝の演奏（雨天中止）\n獅子舞演舞（雨天中止）\n南京玉すだれ演舞（雨天中止）\n太鼓演奏（雨天中止）\n中国武術（カンフー）演武（雨天中止）\nバンド演奏（雨天中止）\nフラダンス（雨天中止） \n売店コーナー\n赤塚ふれあい会、キッチンカー（ダイナマイト酒場）、板橋区米穀商組合、板橋区障がい政策課、交流都市（和歌山県みなべ町・新潟県田上町）\nPRコーナー\n高島平警察署・志村消防署・板橋西郵便局、シルバー人材センター、明治安田生命（土曜日のみ）、東京けやきライオンズクラブ（日曜日のみ）\n甘酒コーナー（無料） \n板橋区立郷土資料館\n板橋区立美術館 \n\n板橋区立郷土資料館\n板橋区立美術館\n\nご注意とお願い\n売店などは、売り切れ次第、早めに終了することがあります。\n会場には駐車場がありませんので、車での来場はご遠慮ください。 \n主催\n板橋区町会連合会下赤塚・成増・徳丸支部\n青少年健全育成下赤塚・成増・徳丸地区委員会\nエコポリス板橋下赤塚・成増・徳丸地区環境行動委員会 \n詳しくは板橋区ホームページで\n赤塚梅まつり｜板橋区公式ホームページ
URL:https://kajiyamachokai.com/event/%e8%b5%a4%e5%a1%9a%e6%a2%85%e3%81%be%e3%81%a4%e3%82%8a%e3%80%803%e6%9c%881%e6%97%a5%e5%9c%9f%e3%80%80%e5%8d%88%e5%89%8d9%e6%99%8230%e5%88%86%e3%81%8b%e3%82%89%e5%8d%88%e5%be%8c3%e6%99%82/
LOCATION:東京都
ATTACH;FMTTYPE=image/jpeg:https://kajiyamachokai.com/wp-content/uploads/2025/02/DSC01517-scaled.jpg
END:VEVENT
BEGIN:VEVENT
DTSTART;TZID=Asia/Tokyo:20250309T080000
DTEND;TZID=Asia/Tokyo:20250309T110000
DTSTAMP:20260422T144517
CREATED:20250202T024727Z
LAST-MODIFIED:20250202T025311Z
UID:2789-1741507200-1741518000@kajiyamachokai.com
SUMMARY:「板橋区赤塚地区総合防災訓練」令和7年3月9日（日曜日）
DESCRIPTION:「板橋区赤塚地区総合防災訓練」令和7年3月9日（日曜日）下赤塚小学校校\n午前8:00より11：00 \n\n避難所開設運営訓練\n避難所の備蓄倉庫見学\n初期消火訓練\n放水訓練\n救出訓練\n応急手当訓練\n防災資器材取扱訓練\nARゴーグルによる消火訓練・煙体験\nVRゴーグルによる避難所体験\n物資配給訓練
URL:https://kajiyamachokai.com/event/%e3%80%8c%e6%9d%bf%e6%a9%8b%e5%8c%ba%e8%b5%a4%e5%a1%9a%e5%9c%b0%e5%8c%ba%e7%b7%8f%e5%90%88%e9%98%b2%e7%81%bd%e8%a8%93%e7%b7%b4%e3%80%8d%e4%bb%a4%e5%92%8c7%e5%b9%b43%e6%9c%889%e6%97%a5%ef%bc%88/
LOCATION:下赤塚小学校
ATTACH;FMTTYPE=image/jpeg:https://kajiyamachokai.com/wp-content/uploads/2025/02/DSC01601-scaled.jpg
END:VEVENT
END:VCALENDAR