BEGIN:VCALENDAR
VERSION:2.0
PRODID:-//梶山町会公式ホームページ - ECPv6.15.20//NONSGML v1.0//EN
CALSCALE:GREGORIAN
METHOD:PUBLISH
X-WR-CALNAME:梶山町会公式ホームページ
X-ORIGINAL-URL:https://kajiyamachokai.com
X-WR-CALDESC:梶山町会公式ホームページ のイベント
REFRESH-INTERVAL;VALUE=DURATION:PT1H
X-Robots-Tag:noindex
X-PUBLISHED-TTL:PT1H
BEGIN:VTIMEZONE
TZID:Asia/Tokyo
BEGIN:STANDARD
TZOFFSETFROM:+0900
TZOFFSETTO:+0900
TZNAME:JST
DTSTART:20230101T000000
END:STANDARD
END:VTIMEZONE
BEGIN:VEVENT
DTSTART;TZID=Asia/Tokyo:20241109T113000
DTEND;TZID=Asia/Tokyo:20241110T163000
DTSTAMP:20260423T065228
CREATED:20240902T134139Z
LAST-MODIFIED:20240903T033308Z
UID:1227-1731151800-1731256200@kajiyamachokai.com
SUMMARY:板橋農業まつり
DESCRIPTION:１１月９日(土)　　１１時３０分より１６時\n１０日(日)　　１０時～１５時３０分　　　赤塚体育館・赤塚小学校周辺道路 \n現在詳細未定です上記の時間愛は昨年の者です。 \n 
URL:https://kajiyamachokai.com/event/%e6%9d%bf%e6%a9%8b%e8%be%b2%e6%a5%ad%e3%81%be%e3%81%a4%e3%82%8a/
LOCATION:東京都
ATTACH;FMTTYPE=image/jpeg:https://kajiyamachokai.com/wp-content/uploads/2024/09/nougyou01.jpg
END:VEVENT
BEGIN:VEVENT
DTSTART;TZID=Asia/Tokyo:20241105T140000
DTEND;TZID=Asia/Tokyo:20241105T150000
DTSTAMP:20260423T065228
CREATED:20241103T043842Z
LAST-MODIFIED:20241103T043842Z
UID:2248-1730815200-1730818800@kajiyamachokai.com
SUMMARY:三役会11月5日(火)14：00～（募金集計）
DESCRIPTION:三役・女性部役員会実施いたします（募金の集計）ご協力をお願いします。
URL:https://kajiyamachokai.com/event/%e4%b8%89%e5%bd%b9%e4%bc%9a11%e6%9c%885%e6%97%a5%e7%81%ab14%ef%bc%9a00%ef%bd%9e%ef%bc%88%e5%8b%9f%e9%87%91%e9%9b%86%e8%a8%88%ef%bc%89/
LOCATION:中田出世稲荷社務所\, 1丁目7番9号\, 板橋区赤塚\, 東京都\, 175-0092\, Japan
END:VEVENT
BEGIN:VEVENT
DTSTART;TZID=Asia/Tokyo:20241102T100000
DTEND;TZID=Asia/Tokyo:20241102T120000
DTSTAMP:20260423T065228
CREATED:20240903T081511Z
LAST-MODIFIED:20241013T130450Z
UID:1247-1730541600-1730548800@kajiyamachokai.com
SUMMARY:秋のクリーン作戦・放置自転車追放キャンペーン
DESCRIPTION:１１月２日　１０時より　　中田出世稲荷境内集合 \n 
URL:https://kajiyamachokai.com/event/%e7%a7%8b%e3%81%ae%e3%82%af%e3%83%aa%e3%83%bc%e3%83%b3%e4%bd%9c%e6%88%a6%e3%83%bb%e6%94%be%e7%bd%ae%e8%87%aa%e8%bb%a2%e8%bb%8a%e8%bf%bd%e6%94%be%e3%82%ad%e3%83%a3%e3%83%b3%e3%83%9a%e3%83%bc%e3%83%b3/
LOCATION:中田出世稲荷境内\, 1丁目7番9号\, 板橋区赤塚\, 東京都\, 175-0092\, Japan
ATTACH;FMTTYPE=image/jpeg:https://kajiyamachokai.com/wp-content/uploads/2024/09/DSC018134.jpg
END:VEVENT
BEGIN:VEVENT
DTSTART;TZID=Asia/Tokyo:20241027T100000
DTEND;TZID=Asia/Tokyo:20241027T120000
DTSTAMP:20260423T065228
CREATED:20240902T070037Z
LAST-MODIFIED:20240902T122157Z
UID:1181-1730023200-1730030400@kajiyamachokai.com
SUMMARY:梶山町会防災訓練
DESCRIPTION:10月27日(日)　１０時より１２時まで　中田出世稲荷境内 \n起震車体験・煙体験・スタンドパイプ・消火器体験・消防署による防火指導他 \n最近は自然災害など突然大きな災害が発生しています、万が一の時、日ごろの訓練が役に立ちます。\n自分の身を守るため、地域を守るため、多くの町会員の参加お待ちしています
URL:https://kajiyamachokai.com/event/%e6%a2%b6%e5%b1%b1%e7%94%ba%e4%bc%9a%e9%98%b2%e7%81%bd%e8%a8%93%e7%b7%b4/
LOCATION:中田出世稲荷境内\, 1丁目7番9号\, 板橋区赤塚\, 東京都\, 175-0092\, Japan
ATTACH;FMTTYPE=image/jpeg:https://kajiyamachokai.com/wp-content/uploads/2024/09/DSC01627.jpg
END:VEVENT
BEGIN:VEVENT
DTSTART;TZID=Asia/Tokyo:20241019T110000
DTEND;TZID=Asia/Tokyo:20241020T170000
DTSTAMP:20260423T065228
CREATED:20240902T083628Z
LAST-MODIFIED:20240902T123950Z
UID:1197-1729335600-1729443600@kajiyamachokai.com
SUMMARY:板橋区民祭り
DESCRIPTION:
URL:https://kajiyamachokai.com/event/%e6%9d%bf%e6%a9%8b%e5%8c%ba%e6%b0%91%e7%a5%ad%e3%82%8a/
LOCATION:大山グリーンホール前\, 36-1\, 板橋区栄町\, 東京都\, 173-0015\, Japan
ATTACH;FMTTYPE=image/jpeg:https://kajiyamachokai.com/wp-content/uploads/2024/09/R.jpg
END:VEVENT
BEGIN:VEVENT
DTSTART;TZID=Asia/Tokyo:20241014T070000
DTEND;TZID=Asia/Tokyo:20241014T140000
DTSTAMP:20260423T065228
CREATED:20240902T063251Z
LAST-MODIFIED:20240902T115711Z
UID:1177-1728889200-1728914400@kajiyamachokai.com
SUMMARY:下赤塚地区ウォークラリー
DESCRIPTION:10月14日(月)9時より午後2時まで　下赤塚小学校集合 \n赤塚管内を歩き地域に親しめながらゲームを行い交流を図る \n問合せ　下赤塚地域センター　　電話03-3938-5116 \n 
URL:https://kajiyamachokai.com/event/%e4%b8%8b%e8%b5%a4%e5%a1%9a%e5%9c%b0%e5%8c%ba%e3%82%a6%e3%82%a9%e3%83%bc%e3%82%af%e3%83%a9%e3%83%aa%e3%83%bc/
LOCATION:下赤塚小学校
ATTACH;FMTTYPE=image/jpeg:https://kajiyamachokai.com/wp-content/uploads/2024/09/3607.jpg
END:VEVENT
BEGIN:VEVENT
DTSTART;TZID=Asia/Tokyo:20241012T140000
DTEND;TZID=Asia/Tokyo:20241012T160000
DTSTAMP:20260423T065228
CREATED:20240902T084852Z
LAST-MODIFIED:20240902T115554Z
UID:1201-1728741600-1728748800@kajiyamachokai.com
SUMMARY:定例役員会
DESCRIPTION:10月12日　14時よロ　下赤塚駅前集会所 \n2カ月に一回の定例全役員会・町会長会議報告他多種事案検討。
URL:https://kajiyamachokai.com/event/%e5%ae%9a%e4%be%8b%e5%bd%b9%e5%93%a1%e4%bc%9a/
LOCATION:下赤塚駅前集会所\, 1丁目7番2号\, 板橋区赤塚\, 東京都\, 1750092\, Japan
ATTACH;FMTTYPE=image/jpeg:https://kajiyamachokai.com/wp-content/uploads/2024/09/DSC01719.jpg
END:VEVENT
BEGIN:VEVENT
DTSTART;TZID=Asia/Tokyo:20240928T080000
DTEND;TZID=Asia/Tokyo:20240928T170000
DTSTAMP:20260423T065228
CREATED:20240903T034557Z
LAST-MODIFIED:20240903T035226Z
UID:1234-1727510400-1727542800@kajiyamachokai.com
SUMMARY:毎月第2・第4土曜日資源回収（寿光会）
DESCRIPTION:９月の資源回収は１４日と２８日です、午前７時より９時 \nご協力お願いいたします。
URL:https://kajiyamachokai.com/event/%e6%af%8e%e6%9c%88%e7%ac%ac2%e3%83%bb%e7%ac%ac4%e5%9c%9f%e6%9b%9c%e6%97%a5%e8%b3%87%e6%ba%90%e5%9b%9e%e5%8f%8e%ef%bc%88%e5%af%bf%e5%85%89%e4%bc%9a%ef%bc%89/
LOCATION:東京都
ATTACH;FMTTYPE=image/jpeg:https://kajiyamachokai.com/wp-content/uploads/2024/09/DSC02261-1.jpg
END:VEVENT
BEGIN:VEVENT
DTSTART;TZID=Asia/Tokyo:20240921T073000
DTEND;TZID=Asia/Tokyo:20240930T150000
DTSTAMP:20260423T065228
CREATED:20240902T052547Z
LAST-MODIFIED:20240902T121019Z
UID:1173-1726903800-1727708400@kajiyamachokai.com
SUMMARY:秋の全国交通安全運動（交通部）
DESCRIPTION:2024年秋の全国交通安全運動が9月21日（土）～30日(月) \n交通部（高島平交通安全協会第5分会）の皆様よろしくお願い致します。
URL:https://kajiyamachokai.com/event/%e7%a7%8b%e3%81%ae%e5%85%a8%e5%9b%bd%e4%ba%a4%e9%80%9a%e5%ae%89%e5%85%a8%e9%81%8b%e5%8b%95%ef%bc%88%e4%ba%a4%e9%80%9a%e9%83%a8%ef%bc%89/
LOCATION:東京都
ATTACH;FMTTYPE=image/jpeg:https://kajiyamachokai.com/wp-content/uploads/2024/09/DSC_0001_BURST20230520124618707.jpg
END:VEVENT
BEGIN:VEVENT
DTSTART;TZID=Asia/Tokyo:20240920T100000
DTEND;TZID=Asia/Tokyo:20240920T233000
DTSTAMP:20260423T065228
CREATED:20240902T085549Z
LAST-MODIFIED:20240902T120033Z
UID:1203-1726826400-1726875000@kajiyamachokai.com
SUMMARY:区民消火隊放水訓練（毎月第3金曜日）
DESCRIPTION:9月20日(金)　10時　　児童公園　　　　9月度区民消火隊放水訓練 \n区民消火隊員お疲れ様です。　　見学大歓迎お待ちしてます。
URL:https://kajiyamachokai.com/event/%e5%8c%ba%e6%b0%91%e6%b6%88%e7%81%ab%e9%9a%8a%e6%94%be%e6%b0%b4%e8%a8%93%e7%b7%b4%ef%bc%88%e6%af%8e%e6%9c%88%e7%ac%ac3%e9%87%91%e6%9b%9c%e6%97%a5%ef%bc%89/
LOCATION:赤塚児童公園\, １丁目１０\, 板橋区赤塚\, 東京都\, 1750092\, Japan
ATTACH;FMTTYPE=image/jpeg:https://kajiyamachokai.com/wp-content/uploads/2024/09/DSC01789-1b.jpg
END:VEVENT
BEGIN:VEVENT
DTSTART;VALUE=DATE:20240916
DTEND;VALUE=DATE:20240917
DTSTAMP:20260423T065228
CREATED:20240902T033959Z
LAST-MODIFIED:20240903T031819Z
UID:1162-1726444800-1726531199@kajiyamachokai.com
SUMMARY:75歳のお祝い
DESCRIPTION:9月16日梶山町会会員で当年75歳の希望者の方にささやかな記念品を贈らせていただきます。 \n大変申し訳ありませんが、申し込みは8月31日にて終了いたしました。
URL:https://kajiyamachokai.com/event/202475sai/
LOCATION:東京都
ATTACH;FMTTYPE=image/png:https://kajiyamachokai.com/wp-content/uploads/2024/09/画像2.png
END:VEVENT
END:VCALENDAR